Felt | Verdi |
AlreadyApplied | True |
Aperture | 2.8 |
ApertureValue | 2.8 |
Artist | SLAVOMIR POLIVKA |
BitsPerSample | 8 |
BlueHue | 0 |
BlueSaturation | 0 |
Brightness | +50 |
By-line | SLAVOMIR POLIVKA |
CameraProfile | Adobe Standard |
CFAPattern | [Red,Green][Green,Blue] |
ChromaticAberrationB | 0 |
ChromaticAberrationR | 0 |
CircleOfConfusion | 0.030 mm |
Clarity | +100 |
ColorComponents | 3 |
ColorMode | RGB |
ColorNoiseReduction | 25 |
ColorNoiseReductionDetail | 50 |
ColorSpace (1) | Unknown (-1) |
ColorSpace | Uncalibrated |
ColorTemperature | 7300 |
Contrast (2) | +76 |
Contrast | Normal |
ConvertToGrayscale | False |
Copyright | FOMAFOTO |
CopyrightFlag | False |
CopyrightNotice | FOMAFOTO |
CreateDate (1) | 2012:08:28 14:26:47+02:00 |
CreateDate | 2012:08:25 19:52:26 |
Creator | SLAVOMIR POLIVKA |
CreatorTool | Adobe Photoshop Elements 7.0 Windows |
CustomRendered | Normal |
DateAcquired | 2012:08:26 19:48:33.263 |
DateTimeDigitized | 2012:08:25 19:52:26.00+02:00 |
DateTimeOriginal (1) | 2012:08:25 19:52:26.00+02:00 |
DateTimeOriginal | 2012:08:25 19:52:26 |
Defringe | 0 |
DigitalZoomRatio | 1 |
DOF | 0.06 m (0.97 - 1.03 m) |
ExifImageHeight | 3398 |
ExifImageWidth | 5107 |
Exposure | 0.00 |
ExposureCompensation | -1 |
ExposureMode | Manual |
ExposureProgram | Manual |
ExposureTime | 1/80 |
FillLight | 0 |
Flash | No Flash |
FlashFired | False |
FlashFunction | False |
FlashMode | Unknown |
FlashRedEyeMode | False |
FlashReturn | No return detection |
FNumber | 2.8 |
FocalLength | 50.0 mm |
FocalLength35efl | 50.0 mm (35 mm equivalent: 50.0 mm) |
FocalLengthIn35mmFormat | 50 mm |
Format | image/jpeg |
FOV | 39.6 deg |
GainControl | Low gain up |
GrainAmount | 0 |
GreenHue | 0 |
GreenSaturation | 0 |
HasCrop | False |
HasSettings | True |
HighlightRecovery | 0 |
HueAdjustmentAqua | 0 |
HueAdjustmentBlue | 0 |
HueAdjustmentGreen | 0 |
HueAdjustmentMagenta | 0 |
HueAdjustmentOrange | 0 |
HueAdjustmentPurple | 0 |
HueAdjustmentRed | 0 |
HueAdjustmentYellow | 0 |
HyperfocalDistance | 29.72 m |
ICCProfileName | Adobe RGB (1998) |
ImageHeight (1) | 2832 |
ImageHeight | 3398 |
ImageNumber | 21767 |
ImageSize | 5107x3398 |
ImageWidth (1) | 4256 |
ImageWidth | 5107 |
ISO | 800 |
Keywords | Unknown Cause pre-release party |
Lens | 50.0 mm f/1.8 |
LensID (1) | 118 |
LensID | AF Nikkor 50mm f/1.8D |
LensInfo | 50mm f/1.8 |
LightSource | Shade |
LightValue | 6.3 |
LuminanceAdjustmentAqua | 0 |
LuminanceAdjustmentBlue | +19 |
LuminanceAdjustmentGreen | 0 |
LuminanceAdjustmentMagenta | 0 |
LuminanceAdjustmentOrange | +6 |
LuminanceAdjustmentPurple | +18 |
LuminanceAdjustmentRed | +56 |
LuminanceAdjustmentYellow | -2 |
LuminanceSmoothing | 0 |
Make | NIKON CORPORATION |
MaxApertureValue | 1.7 |
Megapixels | 17.4 |
MeteringMode | Multi-segment |
Model | NIKON D700 |
ModifyDate (1) | 2012:08:28 14:26:47+02:00 |
ModifyDate | 2012:08:28 14:26:47 |
Orientation | Horizontal (normal) |
ParametricDarks | 0 |
ParametricHighlights | 0 |
ParametricHighlightSplit | 75 |
ParametricLights | 0 |
ParametricMidtoneSplit | 50 |
ParametricShadows | 0 |
ParametricShadowSplit | 25 |
PostCropVignetteAmount | 0 |
ProcessVersion | 5.7 |
ProfileDescription | Adobe RGB (1998) |
Rating | 0 |
RawFileName | Unknown Cause pre-release party 082.NEF |
RedHue | 0 |
RedSaturation | 0 |
Rights | FOMAFOTO |
Saturation (2) | -21 |
Saturation | Normal |
SaturationAdjustmentAqua | -4 |
SaturationAdjustmentBlue | +30 |
SaturationAdjustmentGreen | 0 |
SaturationAdjustmentMagenta | -2 |
SaturationAdjustmentOrange | 0 |
SaturationAdjustmentPurple | +90 |
SaturationAdjustmentRed | -38 |
SaturationAdjustmentYellow | 0 |
ScaleFactor35efl | 1.0 |
SceneCaptureType | Standard |
SceneType | Directly photographed |
SensingMethod | One-chip color area |
SerialNumber | 2122754 |
Shadows | 5 |
ShadowTint | 0 |
SharpenDetail | 14 |
SharpenEdgeMasking | 0 |
SharpenRadius | +1.4 |
Sharpness (2) | 97 |
Sharpness | Normal |
ShutterSpeed | 1/80 |
ShutterSpeedValue | 1/80 |
Software | Adobe Photoshop Elements 7.0 Windows |
SplitToningBalance | 0 |
SplitToningHighlightHue | 0 |
SplitToningHighlightSaturation | 0 |
SplitToningShadowHue | 0 |
SplitToningShadowSaturation | 0 |
Subject | Unknown Cause pre-release party |
SubjectDistance | 1 m |
SubjectDistanceRange | Unknown |
Tint | +2 |
ToneCurve | 0, 0, 32, 22, 64, 56, 128, 128, 192, 196, 255, 255 |
ToneCurveName | Medium Contrast |
URL_List | |
Version | 6.0 |
Vibrance | 0 |
VignetteAmount | 0 |
WhiteBalance (2) | As Shot |
WhiteBalance | Manual |