Felt | Verdi |
AlreadyApplied | True |
Aperture | 22.0 |
ApertureValue | 22.0 |
Artist | Thomassen,Nikolai |
BitsPerSample | 8 |
BlueHue | 0 |
BlueSaturation | +7 |
Brightness | +93 |
By-line | Thomassen,Nikolai |
CameraProfile | Adobe Standard |
ChromaticAberrationB | 0 |
ChromaticAberrationR | 0 |
CircleOfConfusion | 0.020 mm |
Clarity | 0 |
ColorComponents | 3 |
ColorNoiseReduction | 25 |
ColorTemperature | 4700 |
Contrast (2) | +70 |
Contrast | High |
ConvertToGrayscale | False |
Copyright | Thomassen,Nikolai |
CopyrightNotice | Thomassen,Nikolai |
CreateDate (1) | 2011:08:23 17:26:27+02:00 |
CreateDate | 2011:08:23 17:26:27 |
Creator | Thomassen,Nikolai |
CreatorTool | Adobe Photoshop Lightroom |
CropAngle | -13.6855 |
CropBottom | 0.698966 |
CropHeight | 579 |
CropLeft | 0 |
CropRight | 0.934422 |
CropTop | 0.301034 |
CropUnit | pixels |
CropWidth | 1024 |
CustomRendered | Normal |
DateTimeDigitized | 2011:08:23 17:26:27+02:00 |
DateTimeOriginal (1) | 2011:08:23 17:26:27+02:00 |
DateTimeOriginal | 2011:08:23 17:26:27 |
Defringe | 0 |
ExifImageHeight | 1024 |
ExifImageWidth | 579 |
Exposure | -3.71 |
ExposureCompensation | -0.3 |
ExposureMode | Manual |
ExposureProgram | Shutter speed priority AE |
ExposureTime | 1/5 |
FillLight | 0 |
Flash | Off, Did not fire |
FlashFired | False |
FlashFunction | False |
FlashMode | Off |
FlashRedEyeMode | False |
FlashReturn | No return detection |
FNumber | 22.0 |
FocalLength | 19.0 mm |
FocalLength35efl | 19.0 mm (35 mm equivalent: 28.0 mm) |
FocalLengthIn35mmFormat | 28 mm |
FOV | 65.5 deg |
GreenHue | +24 |
GreenSaturation | 0 |
HasCrop | True |
HasSettings | True |
HighlightRecovery | 0 |
HueAdjustmentAqua | 0 |
HueAdjustmentBlue | +5 |
HueAdjustmentGreen | 0 |
HueAdjustmentMagenta | 0 |
HueAdjustmentOrange | -31 |
HueAdjustmentPurple | 0 |
HueAdjustmentRed | 0 |
HueAdjustmentYellow | +74 |
HyperfocalDistance | 0.80 m |
ImageHeight | 1024 |
ImageSize | 579x1024 |
ImageWidth | 579 |
ISO | 100 |
LightValue | 11.2 |
LuminanceAdjustmentAqua | 0 |
LuminanceAdjustmentBlue | 0 |
LuminanceAdjustmentGreen | 0 |
LuminanceAdjustmentMagenta | 0 |
LuminanceAdjustmentOrange | 0 |
LuminanceAdjustmentPurple | 0 |
LuminanceAdjustmentRed | 0 |
LuminanceAdjustmentYellow | 0 |
LuminanceSmoothing | 0 |
Make | PENTAX |
Megapixels | 0.593 |
MeteringMode | Spot |
Model | PENTAX K-7 |
ModifyDate (1) | 2011:08:25 22:52:23+02:00 |
ModifyDate | 2011:08:25 22:52:23 |
ParametricDarks | 0 |
ParametricHighlights | 0 |
ParametricHighlightSplit | 75 |
ParametricLights | 0 |
ParametricMidtoneSplit | 50 |
ParametricShadows | 0 |
ParametricShadowSplit | 25 |
PostCropVignetteAmount | 0 |
ProfileDescription | sRGB IEC61966-2.1 |
RedHue | +12 |
RedSaturation | +33 |
Rights | Thomassen,Nikolai |
Saturation (2) | 0 |
Saturation | Normal |
SaturationAdjustmentAqua | 0 |
SaturationAdjustmentBlue | 0 |
SaturationAdjustmentGreen | 0 |
SaturationAdjustmentMagenta | 0 |
SaturationAdjustmentOrange | 0 |
SaturationAdjustmentPurple | 0 |
SaturationAdjustmentRed | 0 |
SaturationAdjustmentYellow | 0 |
ScaleFactor35efl | 1.5 |
SceneCaptureType | Standard |
SensingMethod | One-chip color area |
Shadows | 51 |
ShadowTint | 0 |
SharpenDetail | 25 |
SharpenEdgeMasking | 0 |
SharpenRadius | +1.0 |
Sharpness (2) | 150 |
Sharpness | Hard |
ShutterSpeed | 1/5 |
ShutterSpeedValue | 1/5 |
Software | K-7 Ver 1.02 |
SplitToningBalance | 0 |
SplitToningHighlightHue | 0 |
SplitToningHighlightSaturation | 0 |
SplitToningShadowHue | 0 |
SplitToningShadowSaturation | 0 |
SubjectDistanceRange | Close |
Tint | +13 |
ToneCurve | 0, 0, 32, 22, 64, 56, 128, 128, 192, 196, 255, 255 |
ToneCurveName | Medium Contrast |
Version | 4.5 |
Vibrance | 0 |
VignetteAmount | 0 |
WhiteBalance (2) | As Shot |
WhiteBalance | Auto |