Felt | Verdi |
AlreadyApplied | True |
Aperture | 4.5 |
ApertureValue | 4.5 |
BitsPerSample | 8 |
BlueHue | 0 |
BlueSaturation | 0 |
Brightness | 0 |
By-line | Nanna Egidius |
CameraProfile | ACR 2.4 |
ChromaticAberrationB | 0 |
ChromaticAberrationR | 0 |
CircleOfConfusion | 0.020 mm |
Clarity | 0 |
ColorComponents | 3 |
ColorNoiseReduction | 0 |
ColorTemperature | 7450 |
Contrast (2) | +25 |
Contrast | Normal |
ConvertToGrayscale | False |
Copyright | Nanna Egidius |
CopyrightNotice | Nanna Egidius |
CreateDate | 2008:01:24 08:19:46 |
Creator | Nanna Egidius |
CreatorAddress | Kaldor |
CreatorCity | Øyer |
CreatorCountry | Norway |
CreatorPostalCode | 2636 |
CreatorTool | Adobe Photoshop Lightroom |
CreatorWorkEmail | nanna@digitalverkstedet.com |
CreatorWorkTelephone | +47 90057958 |
CreatorWorkURL | www.digitalverkstedet.com |
CropAngle | 0 |
CropBottom | 1 |
CropHeight | 750 |
CropLeft | 0.188571 |
CropRight | 0.565376 |
CropTop | 0.155677 |
CropUnit | pixels |
CropWidth | 500 |
CustomRendered | Normal |
DateTimeDigitized | 2008:01:24 08:19:46+01:00 |
DateTimeOriginal (1) | 2008:01:24 08:19:46+01:00 |
DateTimeOriginal | 2008:01:24 08:19:46 |
Defringe | 0 |
Exposure | +1.05 |
ExposureCompensation | 0 |
ExposureMode | Auto |
ExposureProgram | Program AE |
ExposureTime | 1/15 |
FillLight | 8 |
Flash | Off, Did not fire |
FlashFired | False |
FlashFunction | False |
FlashMode | Off |
FlashRedEyeMode | False |
FlashReturn | No return detection |
FNumber | 4.5 |
FocalLength | 53.0 mm |
FocalLength35efl | 53.0 mm (35 mm equivalent: 79.0 mm) |
FocalLengthIn35mmFormat | 79 mm |
FOV | 25.7 deg |
GreenHue | 0 |
GreenSaturation | 0 |
HasCrop | True |
HasSettings | True |
HighlightRecovery | 70 |
HueAdjustmentAqua | 0 |
HueAdjustmentBlue | 0 |
HueAdjustmentGreen | 0 |
HueAdjustmentMagenta | 0 |
HueAdjustmentOrange | 0 |
HueAdjustmentPurple | 0 |
HueAdjustmentRed | 0 |
HueAdjustmentYellow | 0 |
HyperfocalDistance | 30.97 m |
ImageHeight | 500 |
ImageSize | 750x500 |
ImageWidth | 750 |
ISO | 800 |
Lens | SIGMA |
LensID (1) | 3 255 |
LensID | Sigma 18-200mm F3.5-6.3 DC or Sigma DL-II 35-80mm F4-5.6 or Sigma DF EX Aspherical 28-70mm F2.8 or Sigma 24-60mm F2.8 EX DG |
LightValue | 5.2 |
LuminanceAdjustmentAqua | 0 |
LuminanceAdjustmentBlue | 0 |
LuminanceAdjustmentGreen | 0 |
LuminanceAdjustmentMagenta | 0 |
LuminanceAdjustmentOrange | 0 |
LuminanceAdjustmentPurple | 0 |
LuminanceAdjustmentRed | 0 |
LuminanceAdjustmentYellow | 0 |
LuminanceSmoothing | 0 |
Make | PENTAX Corporation |
Marked | True |
Megapixels | 0.375 |
MeteringMode | Multi-segment |
Model | PENTAX K10D |
ModifyDate (1) | 2008:02:09 18:38:30+01:00 |
ModifyDate | 2008:02:09 18:38:30 |
ParametricDarks | 0 |
ParametricHighlights | 0 |
ParametricHighlightSplit | 75 |
ParametricLights | 0 |
ParametricMidtoneSplit | 50 |
ParametricShadows | 0 |
ParametricShadowSplit | 25 |
ProfileDescription | sRGB IEC61966-2.1 |
RedHue | 0 |
RedSaturation | 0 |
Rights | Nanna Egidius |
Saturation (2) | 0 |
Saturation | Normal |
SaturationAdjustmentAqua | 0 |
SaturationAdjustmentBlue | 0 |
SaturationAdjustmentGreen | 0 |
SaturationAdjustmentMagenta | 0 |
SaturationAdjustmentOrange | 0 |
SaturationAdjustmentPurple | 0 |
SaturationAdjustmentRed | 0 |
SaturationAdjustmentYellow | 0 |
ScaleFactor35efl | 1.5 |
SceneCaptureType | Standard |
SensingMethod | One-chip color area |
Shadows | 21 |
ShadowTint | 0 |
SharpenDetail | 50 |
SharpenEdgeMasking | 0 |
SharpenRadius | +1.0 |
Sharpness (2) | 0 |
Sharpness | Normal |
ShutterSpeed | 1/15 |
ShutterSpeedValue | 1/15 |
Software | K10D Ver 1.10 |
SplitToningBalance | 0 |
SplitToningHighlightHue | 0 |
SplitToningHighlightSaturation | 0 |
SplitToningShadowHue | 0 |
SplitToningShadowSaturation | 0 |
SubjectDistanceRange | Distant |
Tint | +1 |
ToneCurve | 0, 0, 255, 255 |
ToneCurveName | Linear |
Version | 1.0 |
Vibrance | 0 |
VignetteAmount | 0 |
WhiteBalance (2) | As Shot |
WhiteBalance | Auto |